BEGIN:VCALENDAR
VERSION:2.0
PRODID:-//Arya Taray Nusantara - ECPv6.15.20//NONSGML v1.0//EN
CALSCALE:GREGORIAN
METHOD:PUBLISH
X-ORIGINAL-URL:https://aryataraynusantara.com
X-WR-CALDESC:Events for Arya Taray Nusantara
REFRESH-INTERVAL;VALUE=DURATION:PT1H
X-Robots-Tag:noindex
X-PUBLISHED-TTL:PT1H
BEGIN:VTIMEZONE
TZID:UTC
BEGIN:STANDARD
TZOFFSETFROM:+0000
TZOFFSETTO:+0000
TZNAME:UTC
DTSTART:20230101T000000
END:STANDARD
END:VTIMEZONE
BEGIN:VEVENT
DTSTART;TZID=UTC:20240714T100000
DTEND;TZID=UTC:20240714T120000
DTSTAMP:20260419T120847
CREATED:20231006T083400Z
LAST-MODIFIED:20240705T092202Z
UID:2709-1720951200-1720958400@aryataraynusantara.com
SUMMARY:Sekolah Minggu Buddhist Sunshine Little Angels
DESCRIPTION:Pergi ke taman bersama mamaDi taman hendak melihat kudaMari kita pergi bersamaKe Sekolah Minggu Buddha \n\n\n\nYuk bersama – sama beraktifitas dan bermain bersama melalui kelas Sekolah Minggu Buddhist Sunshine Little Angels yang merupakan program edukasi Buddhist non-formal bagi anak – anak dibawah naungan Cetiya Arya Taray Nusantara Jakarta \n\n\n\nKami tunggu kehadirannya!!
URL:https://aryataraynusantara.com/index.php/aktivitasdharma/sekolah-minggu-buddhist-sunshine-little-angels-2/
LOCATION:Cetiya Arya Taray Nusantara\, Pusdiklat Arya Taray Nusantara jl Surya Utama Blok P No 11\, Kebon Jeruk\, Jakarta Barat\, Jakarta Barat\, 11520\, Indonesia
ATTACH;FMTTYPE=image/jpeg:https://aryataraynusantara.com/wp-content/uploads/2023/10/Poster-SMB-versi-2.jpg
END:VEVENT
BEGIN:VEVENT
DTSTART;TZID=UTC:20240714T100000
DTEND;TZID=UTC:20240714T120000
DTSTAMP:20260419T120847
CREATED:20231106T042339Z
LAST-MODIFIED:20240705T093645Z
UID:2906-1720951200-1720958400@aryataraynusantara.com
SUMMARY:Namcho Ngondro & Namcho Bhaisajyaguru
DESCRIPTION:Buddha Bhaisajyaguru atau Medicine Buddha adalah Buddha yang biasa digambarkan sebagai dokter yang menyembuhkan dukkha (penderitaan) para makhluk dengan menggunakan obat-obatan dari ajarannya\, Sadhana Namcho Bhaisajyaguru bermanfaat untuk kesehatan dan penyembuhan berbagai penyakit fisik dan mental\, mengatasi racun kemelekatan\, kebencian dan kebodohan batin.
URL:https://aryataraynusantara.com/index.php/aktivitasdharma/rigdzin-duepa/
LOCATION:Cetiya Arya Taray Nusantara\, Pusdiklat Arya Taray Nusantara jl Surya Utama Blok P No 11\, Kebon Jeruk\, Jakarta Barat\, Jakarta Barat\, 11520\, Indonesia
ATTACH;FMTTYPE=image/jpeg:https://aryataraynusantara.com/wp-content/uploads/2024/07/Ngondro-Bhaisajyaguru-Juli-2024.jpg
END:VEVENT
END:VCALENDAR