BEGIN:VCALENDAR
VERSION:2.0
PRODID:-//Arya Taray Nusantara - ECPv6.15.20//NONSGML v1.0//EN
CALSCALE:GREGORIAN
METHOD:PUBLISH
X-ORIGINAL-URL:https://aryataraynusantara.com
X-WR-CALDESC:Events for Arya Taray Nusantara
REFRESH-INTERVAL;VALUE=DURATION:PT1H
X-Robots-Tag:noindex
X-PUBLISHED-TTL:PT1H
BEGIN:VTIMEZONE
TZID:UTC
BEGIN:STANDARD
TZOFFSETFROM:+0000
TZOFFSETTO:+0000
TZNAME:UTC
DTSTART:20230101T000000
END:STANDARD
END:VTIMEZONE
BEGIN:VEVENT
DTSTART;TZID=UTC:20240710T193000
DTEND;TZID=UTC:20240710T213000
DTSTAMP:20260419T120848
CREATED:20231006T085435Z
LAST-MODIFIED:20240705T093607Z
UID:2717-1720639800-1720647000@aryataraynusantara.com
SUMMARY:Perayaan Chokor Duchen
DESCRIPTION:Chokor Duchen atau yang biasa dikenal sebagai Festival Pemutaran Roda Dharma memperingati hari dimana untuk pertama kalinya Buddha Sakyamuni mengajarkan Empat Kebenaran Ariya setelah menerima permohonan dari Dewa Indra dan Dewa Brahma. Pada hari Chokhor Duechen diyakini bahwa jasa kebajikan bermultiplikasi hingga 10 juta kali lipat
URL:https://aryataraynusantara.com/index.php/aktivitasdharma/puja-tsuktor-karmo-dogjur-trisarana/
LOCATION:Cetiya Arya Taray Nusantara\, Pusdiklat Arya Taray Nusantara jl Surya Utama Blok P No 11\, Kebon Jeruk\, Jakarta Barat\, Jakarta Barat\, 11520\, Indonesia
ATTACH;FMTTYPE=image/jpeg:https://aryataraynusantara.com/wp-content/uploads/2023/10/Chokor-Duchen-Juli-2024-v2.jpg
END:VEVENT
END:VCALENDAR