BEGIN:VCALENDAR
VERSION:2.0
PRODID:-//Arya Taray Nusantara - ECPv6.15.20//NONSGML v1.0//EN
CALSCALE:GREGORIAN
METHOD:PUBLISH
X-WR-CALNAME:Arya Taray Nusantara
X-ORIGINAL-URL:https://aryataraynusantara.com
X-WR-CALDESC:Events for Arya Taray Nusantara
REFRESH-INTERVAL;VALUE=DURATION:PT1H
X-Robots-Tag:noindex
X-PUBLISHED-TTL:PT1H
BEGIN:VTIMEZONE
TZID:UTC
BEGIN:STANDARD
TZOFFSETFROM:+0000
TZOFFSETTO:+0000
TZNAME:UTC
DTSTART:20230101T000000
END:STANDARD
END:VTIMEZONE
BEGIN:VEVENT
DTSTART;TZID=UTC:20240707T100000
DTEND;TZID=UTC:20240707T120000
DTSTAMP:20260422T110441
CREATED:20231006T083016Z
LAST-MODIFIED:20240705T091909Z
UID:2704-1720346400-1720353600@aryataraynusantara.com
SUMMARY:Sekolah Minggu Buddhis Sunshine Little Angels
DESCRIPTION:Halo adik – adik\, mari bersama – sama beraktifitas dan bermain bersama melalui kelas Sekolah Minggu Buddhis Sunshine Little Angels yang merupakan program edukasi Buddhis non-formal bagi anak – anak dibawah naungan Cetiya Arya Taray Nusantara Jakarta \n\n\n\nYuk catat jadwalnya dan pastikan kalian hadir bersama teman – teman kalian ya!
URL:https://aryataraynusantara.com/index.php/aktivitasdharma/2704/
LOCATION:Cetiya Arya Taray Nusantara\, Pusdiklat Arya Taray Nusantara jl Surya Utama Blok P No 11\, Kebon Jeruk\, Jakarta Barat\, Jakarta Barat\, 11520\, Indonesia
ATTACH;FMTTYPE=image/jpeg:https://aryataraynusantara.com/wp-content/uploads/2023/10/Poster-SMB-1.jpg
END:VEVENT
BEGIN:VEVENT
DTSTART;TZID=UTC:20240707T103000
DTEND;TZID=UTC:20240707T120000
DTSTAMP:20260422T110442
CREATED:20231106T025335Z
LAST-MODIFIED:20240705T090249Z
UID:2889-1720348200-1720353600@aryataraynusantara.com
SUMMARY:Barche Lamsel & Sampa Lhundrup
DESCRIPTION:“Dari semua BuddhaEngkau adalah wajah & perwujudan merekaGuru Oddiyana yang berhargaDari lubuk hatiku yang mendalam\, inti keberadaankuAku berdoa untukMuHambatan luar\, dalam & rahasiaMohon hilangkan mereka ke kesunyataanDan melalui berkahMuSemoga semua tujuan dan aspirasiku terwujud secara spontan”Doa untuk Guru Padmashambava yang Berharga
URL:https://aryataraynusantara.com/index.php/aktivitasdharma/puja-blessing-namcho-kurukulle/
LOCATION:Cetiya Arya Taray Nusantara\, Pusdiklat Arya Taray Nusantara jl Surya Utama Blok P No 11\, Kebon Jeruk\, Jakarta Barat\, Jakarta Barat\, 11520\, Indonesia
ATTACH;FMTTYPE=image/jpeg:https://aryataraynusantara.com/wp-content/uploads/2023/11/Barche-Lamsel-Shampa-Lhundrup-Juli-2024.jpg
END:VEVENT
END:VCALENDAR