BEGIN:VCALENDAR
VERSION:2.0
PRODID:-//Arya Taray Nusantara - ECPv6.15.20//NONSGML v1.0//EN
CALSCALE:GREGORIAN
METHOD:PUBLISH
X-WR-CALNAME:Arya Taray Nusantara
X-ORIGINAL-URL:https://aryataraynusantara.com
X-WR-CALDESC:Events for Arya Taray Nusantara
REFRESH-INTERVAL;VALUE=DURATION:PT1H
X-Robots-Tag:noindex
X-PUBLISHED-TTL:PT1H
BEGIN:VTIMEZONE
TZID:UTC
BEGIN:STANDARD
TZOFFSETFROM:+0000
TZOFFSETTO:+0000
TZNAME:UTC
DTSTART:20220101T000000
END:STANDARD
END:VTIMEZONE
BEGIN:VEVENT
DTSTART;TZID=UTC:20231007T130000
DTEND;TZID=UTC:20231007T150000
DTSTAMP:20260420T011808
CREATED:20231006T081404Z
LAST-MODIFIED:20231006T081406Z
UID:2685-1696683600-1696690800@aryataraynusantara.com
SUMMARY:Sosialisasi dan Pembuatan Eco Enzyme Bersama
DESCRIPTION:Eco Enzyme adalah hasil dari fermentasi limbah dapur organik semisal kulit buah dan sayuran\, gula (gula aren\, gula merah atau gula tebu) dan juga air. \n\n\n\nEco enzyme bisa menjadi cairan serbaguna dan aplikasinya meliputi rumah tangga\, selokan\, kali\, pertanian atau untuk peternakan. \n\n\n\nUntuk bahan-bahan pembuatan Eco enzyme akan disediakan dari panitia\, peserta yg ingin membuat langsung bisa membawa wadah (galon minerale\, toples besar\, atau wadah yg kedap)
URL:https://aryataraynusantara.com/index.php/aktivitasdharma/sosialisasi-dan-pembuatan-eco-enzyme-bersama/
LOCATION:Cetiya Arya Taray Nusantara\, Pusdiklat Arya Taray Nusantara jl Surya Utama Blok P No 11\, Kebon Jeruk\, Jakarta Barat\, Jakarta Barat\, 11520\, Indonesia
ATTACH;FMTTYPE=image/jpeg:https://aryataraynusantara.com/wp-content/uploads/2023/10/Eco-Enzyme.jpg
END:VEVENT
END:VCALENDAR