BEGIN:VCALENDAR
VERSION:2.0
PRODID:-//Arya Taray Nusantara - ECPv6.15.20//NONSGML v1.0//EN
CALSCALE:GREGORIAN
METHOD:PUBLISH
X-ORIGINAL-URL:https://aryataraynusantara.com
X-WR-CALDESC:Events for Arya Taray Nusantara
REFRESH-INTERVAL;VALUE=DURATION:PT1H
X-Robots-Tag:noindex
X-PUBLISHED-TTL:PT1H
BEGIN:VTIMEZONE
TZID:UTC
BEGIN:STANDARD
TZOFFSETFROM:+0000
TZOFFSETTO:+0000
TZNAME:UTC
DTSTART:20220101T000000
END:STANDARD
END:VTIMEZONE
BEGIN:VEVENT
DTSTART;TZID=UTC:20231001T100000
DTEND;TZID=UTC:20231001T120000
DTSTAMP:20260420T011852
CREATED:20230926T085909Z
LAST-MODIFIED:20230926T085912Z
UID:2678-1696154400-1696161600@aryataraynusantara.com
SUMMARY:Puja Dharmapala (Puja Solkha)
DESCRIPTION:Mahakala merupakan salah satu Dharmapala (Pelindung Dharma) yang dipuja dalam Vajrayana tradisi Nyingma. Melalui Puja Dharmapala (Puja Solkha) yang disertai dengan devosi yang tulus\, seseorang dapat memperoleh manfaat purifikasi halangan & rintangan luar dalam dan rahasia yang disebabkan oleh para penagih hutang karma\, purifikasi pelanggaran samaya\, terberkahi oleh para Pelindung Dharma dan Entitas Suci\, berkah panjang usia dan kesehatan\, berkah panen dan hujan yang turun tepat pada waktunya\, berkah keberuntungan dan keharmonisan\, terbebas dari kemelekatan dualitas dan 6 alam samsara\, realisasi pencerahan demi manfaat semua makhluk
URL:https://aryataraynusantara.com/index.php/aktivitasdharma/puja-dharmapala-puja-solkha/
LOCATION:Cetiya Arya Taray Nusantara\, Pusdiklat Arya Taray Nusantara jl Surya Utama Blok P No 11\, Kebon Jeruk\, Jakarta Barat\, Jakarta Barat\, 11520\, Indonesia
ATTACH;FMTTYPE=image/jpeg:https://aryataraynusantara.com/wp-content/uploads/2023/09/Puja-Dharmapala.jpg
END:VEVENT
END:VCALENDAR