BEGIN:VCALENDAR
VERSION:2.0
PRODID:-//Arya Taray Nusantara - ECPv6.15.20//NONSGML v1.0//EN
CALSCALE:GREGORIAN
METHOD:PUBLISH
X-WR-CALNAME:Arya Taray Nusantara
X-ORIGINAL-URL:https://aryataraynusantara.com
X-WR-CALDESC:Events for Arya Taray Nusantara
REFRESH-INTERVAL;VALUE=DURATION:PT1H
X-Robots-Tag:noindex
X-PUBLISHED-TTL:PT1H
BEGIN:VTIMEZONE
TZID:UTC
BEGIN:STANDARD
TZOFFSETFROM:+0000
TZOFFSETTO:+0000
TZNAME:UTC
DTSTART:20220101T000000
END:STANDARD
END:VTIMEZONE
BEGIN:VEVENT
DTSTART;TZID=UTC:20230910T100000
DTEND;TZID=UTC:20230910T150000
DTSTAMP:20260420T024737
CREATED:20230915T061331Z
LAST-MODIFIED:20230915T070144Z
UID:2339-1694340000-1694358000@aryataraynusantara.com
SUMMARY:Workshop Tara Mitra & Duta Sukhavati
DESCRIPTION:Apakah anda tertarik untuk belajar cara mendoakan orang sakit dan orang meninggal berdasarkan tradisi Vajrayana?Apakah anda beraspirasi melatih bodhicitta dengan mengunjungi mereka yang sakit dan meninggal?Apakah anda tertarik untuk mengembangkan rasa syukur dan welas asih dalam kehidupan anda? \n\n\n\nJika jawabannya iya\, maka inilah kesempatannya! \n\n\n\nKabar gembira! Cetiya Arya Taray Nusantara Jakarta membuka pendaftaran anggota baru Tim Tara Mitra & Duta Sukhavati \n\n\n\nWorkshop Pelatihan Tim Tara Mitra & Duta SukhavatiHybrid: Offline & Online \n\n\n\nMinggu\, 10 September 2023Pukul 10.00-12.00 WIB (Sesi 1) & 13.00 – 15.00 WIB (Sesi 2) \n\n\n\nPeserta offline & online wajib mengikuti sesi 1 & sesi 2 secara penuh. Workshop online dikhususkan bagi peserta non-Jabodetabek (link zoom akan dikirimkan melalui pesan WhatsApp personal) \n\n\n\nKami tunggu kehadirannya ya! \n\n\n\n\n\nLink Pendaftaranhttps://bit.ly/PelatihanTim2023 \n\n\n\n\n\n\n\n\n\n–DAYS–HOURS–MINUTES–SECONDS\n\n\n\n\n\n\n	\n		\n\n			\n			\n\n							\n					\n						Upcoming Events					\n				\n			\n			\n				\n											\n\n	\n	\n		\n			Mei		\n		\n			31		\n	\n\n\n	\n		\n			\n\n				\n					\n		\n		10:00 am – 12:00 pm  UTC+0 	\n	\n					\n	\n		Perayaan Waisak: Pradaksina + 8 Persembahan & Persembahan Pelita	\n\n				\n\n				\n			\n		\n	\n\n\n											\n\n	\n	\n		\n			Mei		\n		\n			31		\n	\n\n\n	\n		\n			\n\n				\n					\n		\n		1:00 pm – 2:00 pm  UTC+0 	\n	\n					\n	\n		Visudhi Trisarana	\n\n				\n\n				\n			\n		\n	\n\n\n											\n\n	\n	\n		\n			Okt		\n		\n			1		\n	\n\n\n	\n		\n			\n\n				\n					\n		\n		Oktober 1 @ 8:00 am – Desember 31 @ 5:00 pm  UTC+0 	\n	\n					\n	\n		Permata Vajra : Mengarungi Samudra Dharma	\n\n				\n\n				\n			\n		\n	\n\n\n											\n\n	\n	\n		\n			Okt		\n		\n			2		\n	\n\n\n	\n		\n			\n\n				\n					\n		\n		Oktober 2 @ 8:00 am – Oktober 4 @ 5:00 pm  UTC+0 	\n	\n					\n	\n		Retret Amitabha & Jangchok / Chau Du	\n\n				\n\n				\n			\n		\n	\n\n\n											\n\n	\n	\n		\n			Okt		\n		\n			5		\n	\n\n\n	\n		\n			\n\n				\n					\n		\n		6:00 am – 8:00 am  UTC+0 	\n	\n					\n	\n		 Persembahan Vas Naga di Teluk Jakarta dipimpin oleh Khenpo Thubten Dorji Rinpoche	\n\n				\n\n				\n			\n		\n	\n\n\n									\n\n				\n	\n		View Calendar
URL:https://aryataraynusantara.com/index.php/aktivitasdharma/workshop-tara-mitra-duta-sukhavati/
LOCATION:Cetiya Arya Taray Nusantara\, Pusdiklat Arya Taray Nusantara jl Surya Utama Blok P No 11\, Kebon Jeruk\, Jakarta Barat\, Jakarta Barat\, 11520\, Indonesia
ATTACH;FMTTYPE=image/jpeg:https://aryataraynusantara.com/wp-content/uploads/2023/09/Workshop-Pelatihan-Tim-Tara-Mitra-dan-Duta-Sukhavati-sEPTEMBER-2023-1.jpg
END:VEVENT
END:VCALENDAR